BEGIN:VCALENDAR
VERSION:2.0
BEGIN:VEVENT
SUMMARY:Southminster Spring Fest
DTSTART;TZID=America/New_York:20260418T140000
DTEND;TZID=America/New_York:20260418T180000
DESCRIPTION:Bring your lawn chairs and picnic blankets to an afternoon of live music, free food, bounce house, cornhole, and fellowship.
LOCATION:1401 Hoffman Rd Gastonia, NC 28054
END:VEVENT
END:VCALENDAR